BEGIN:VCALENDAR
VERSION:2.0
PRODID:-//empowercdc.org//NONSGML kigkonsult.se iCalcreator 2.30.10//
CALSCALE:GREGORIAN
METHOD:PUBLISH
UID:90e395b4-8d4a-4a9d-be9f-1ba7f4678887
X-WR-CALDESC:Come relax\, enjoy the music and color a picture of choice wit
 h us!
X-WR-RELCALID:27562a3c6e81b4ca2e27ebbe57583b84
X-WR-TIMEZONE:America/Chicago
BEGIN:VTIMEZONE
TZID:America/Chicago
BEGIN:STANDARD
TZNAME:CST
DTSTART:20201101T020000
TZOFFSETFROM:-0500
TZOFFSETTO:-0600
RDATE:20211107T020000
RDATE:20221106T020000
END:STANDARD
BEGIN:DAYLIGHT
TZNAME:CDT
DTSTART:20210314T020000
TZOFFSETFROM:-0600
TZOFFSETTO:-0500
RDATE:20220313T020000
END:DAYLIGHT
END:VTIMEZONE
BEGIN:VEVENT
UID:70609f5b-2127-4a85-81da-332a63972b65
DTSTAMP:20260424T074017Z
DESCRIPTION:Come relax\, enjoy the music and color a picture of choice with
  us!
DTSTART;TZID=America/Chicago:20210903T160000
DTEND;TZID=America/Chicago:20210903T170000
LOCATION:
SUMMARY:COLOR ME CRAZY
END:VEVENT
END:VCALENDAR
