BEGIN:VCALENDAR
VERSION:2.0
PRODID:-//empowercdc.org//NONSGML kigkonsult.se iCalcreator 2.30.10//
CALSCALE:GREGORIAN
METHOD:PUBLISH
UID:f96d8328-6226-4467-bff3-14ca759b3ddd
X-WR-CALDESC:COME OUT AND CELEBRATE THOSE WITH BIRTHDAYS THIS MONTH!
X-WR-RELCALID:b2251be725187cf3e58b005bfb9b0ef2
X-WR-TIMEZONE:America/Chicago
BEGIN:VTIMEZONE
TZID:America/Chicago
BEGIN:STANDARD
TZNAME:CST
DTSTART:20201101T020000
TZOFFSETFROM:-0500
TZOFFSETTO:-0600
RDATE:20211107T020000
RDATE:20221106T020000
END:STANDARD
BEGIN:DAYLIGHT
TZNAME:CDT
DTSTART:20210314T020000
TZOFFSETFROM:-0600
TZOFFSETTO:-0500
RDATE:20220313T020000
END:DAYLIGHT
END:VTIMEZONE
BEGIN:VEVENT
UID:5d84acdc-af7c-4940-95d4-9a9fc6375fc7
DTSTAMP:20260424T074141Z
DESCRIPTION:COME OUT AND CELEBRATE THOSE WITH BIRTHDAYS THIS MONTH!
DTSTART;TZID=America/Chicago:20210903T150000
DTEND;TZID=America/Chicago:20210903T160000
LOCATION:
SUMMARY:Birthday Social
END:VEVENT
END:VCALENDAR
