BEGIN:VCALENDAR
VERSION:2.0
PRODID:-//empowercdc.org//NONSGML kigkonsult.se iCalcreator 2.30.10//
CALSCALE:GREGORIAN
METHOD:PUBLISH
UID:c990560f-6212-4d77-ab07-c8b27123b85c
X-WR-CALDESC:
X-WR-RELCALID:1970d4ceff29ce9759078cb04d42c5d6
X-WR-TIMEZONE:America/Chicago
BEGIN:VTIMEZONE
TZID:America/Chicago
BEGIN:STANDARD
TZNAME:CST
DTSTART:20201101T020000
TZOFFSETFROM:-0500
TZOFFSETTO:-0600
RDATE:20211107T020000
RDATE:20221106T020000
END:STANDARD
BEGIN:DAYLIGHT
TZNAME:CDT
DTSTART:20210314T020000
TZOFFSETFROM:-0600
TZOFFSETTO:-0500
RDATE:20220313T020000
END:DAYLIGHT
END:VTIMEZONE
BEGIN:VEVENT
UID:7a8ad7eb-b04d-4b41-a6df-4e0d76a139ed
DTSTAMP:20260424T075856Z
DESCRIPTION:
DTSTART;TZID=America/Chicago:20210903T130000
DTEND;TZID=America/Chicago:20210903T140000
LOCATION:
SUMMARY:Birthday Social/Bingo
END:VEVENT
END:VCALENDAR
