BEGIN:VCALENDAR
VERSION:2.0
PRODID:-//empowercdc.org//NONSGML kigkonsult.se iCalcreator 2.30.10//
CALSCALE:GREGORIAN
METHOD:PUBLISH
UID:4837758f-3ef6-447c-a7ba-71b835d43dc4
X-WR-CALDESC:
X-WR-RELCALID:bbff0c9f5703ce39cc67c32343c51c16
X-WR-TIMEZONE:America/Chicago
BEGIN:VTIMEZONE
TZID:America/Chicago
BEGIN:STANDARD
TZNAME:CST
DTSTART:20201101T020000
TZOFFSETFROM:-0500
TZOFFSETTO:-0600
RDATE:20211107T020000
RDATE:20221106T020000
END:STANDARD
BEGIN:DAYLIGHT
TZNAME:CDT
DTSTART:20210314T020000
TZOFFSETFROM:-0600
TZOFFSETTO:-0500
RDATE:20220313T020000
END:DAYLIGHT
END:VTIMEZONE
BEGIN:VEVENT
UID:75628fa6-1d81-4124-80e7-deb4aa6bcf9d
DTSTAMP:20260424T075849Z
DESCRIPTION:
DTSTART;TZID=America/Chicago:20210903T110000
DTEND;TZID=America/Chicago:20210903T120000
LOCATION:
SUMMARY:Weekly Exercise: Beginner's Yoga
END:VEVENT
END:VCALENDAR
