BEGIN:VCALENDAR
VERSION:2.0
PRODID:-//empowercdc.org//NONSGML kigkonsult.se iCalcreator 2.30.10//
CALSCALE:GREGORIAN
METHOD:PUBLISH
UID:48605367-2898-4bc1-b149-18002f404d50
X-WR-CALDESC:
X-WR-RELCALID:d3e5f139d173e61fa7239eea207243bc
X-WR-TIMEZONE:America/Chicago
BEGIN:VTIMEZONE
TZID:America/Chicago
BEGIN:STANDARD
TZNAME:CST
DTSTART:20201101T020000
TZOFFSETFROM:-0500
TZOFFSETTO:-0600
RDATE:20211107T020000
RDATE:20221106T020000
END:STANDARD
BEGIN:DAYLIGHT
TZNAME:CDT
DTSTART:20210314T020000
TZOFFSETFROM:-0600
TZOFFSETTO:-0500
RDATE:20220313T020000
END:DAYLIGHT
END:VTIMEZONE
BEGIN:VEVENT
UID:306c06e3-8d6c-435e-9515-b23abd797edf
DTSTAMP:20260424T080713Z
DESCRIPTION:
DTSTART;TZID=America/Chicago:20210902T183000
DTEND;TZID=America/Chicago:20210902T193000
LOCATION:Heritage Multi-family
SUMMARY:VIrtual Faith and Finance Course
END:VEVENT
END:VCALENDAR
