BEGIN:VCALENDAR
VERSION:2.0
PRODID:-//empowercdc.org//NONSGML kigkonsult.se iCalcreator 2.30.10//
CALSCALE:GREGORIAN
METHOD:PUBLISH
UID:b9ee5aa2-8d5b-41e5-aae5-cfa2daa79c06
X-WR-CALDESC:
X-WR-RELCALID:45404ef896a49d05d43869f5ec550042
X-WR-TIMEZONE:America/Chicago
BEGIN:VTIMEZONE
TZID:America/Chicago
BEGIN:STANDARD
TZNAME:CST
DTSTART:20201101T020000
TZOFFSETFROM:-0500
TZOFFSETTO:-0600
RDATE:20211107T020000
RDATE:20221106T020000
END:STANDARD
BEGIN:DAYLIGHT
TZNAME:CDT
DTSTART:20210314T020000
TZOFFSETFROM:-0600
TZOFFSETTO:-0500
RDATE:20220313T020000
END:DAYLIGHT
END:VTIMEZONE
BEGIN:VEVENT
UID:eefcaa48-93c7-44f2-80c3-008a210311c4
DTSTAMP:20260424T075850Z
DESCRIPTION:
DTSTART;TZID=America/Chicago:20210901T150000
DTEND;TZID=America/Chicago:20210901T160000
LOCATION:
SUMMARY:Exercise: Virtual Beginner's Yoga
END:VEVENT
END:VCALENDAR
