BEGIN:VCALENDAR
VERSION:2.0
PRODID:-//empowercdc.org//NONSGML kigkonsult.se iCalcreator 2.30.10//
CALSCALE:GREGORIAN
METHOD:PUBLISH
UID:a4a66be8-ca7d-41dd-a259-fb037b4f1a69
X-WR-CALDESC:COME OUT FOR A FREINDLY MEET AND GREET .  THE BEST PART IS THE
  CHARCUTERIE
X-WR-RELCALID:bf0e7a69fed3866d136c129126b1acd8
X-WR-TIMEZONE:America/Chicago
BEGIN:VTIMEZONE
TZID:America/Chicago
BEGIN:STANDARD
TZNAME:CST
DTSTART:20201101T020000
TZOFFSETFROM:-0500
TZOFFSETTO:-0600
RDATE:20211107T020000
RDATE:20221106T020000
END:STANDARD
BEGIN:DAYLIGHT
TZNAME:CDT
DTSTART:20210314T020000
TZOFFSETFROM:-0600
TZOFFSETTO:-0500
RDATE:20220313T020000
END:DAYLIGHT
END:VTIMEZONE
BEGIN:VEVENT
UID:3ffc7f26-fe37-4f26-acdc-ed6dce862410
DTSTAMP:20260424T091017Z
DESCRIPTION:COME OUT FOR A FREINDLY MEET AND GREET .  THE BEST PART IS THE 
 CHARCUTERIE
DTSTART;TZID=America/Chicago:20210831T150000
DTEND;TZID=America/Chicago:20210831T160000
LOCATION:
SUMMARY:Meet and Greet
END:VEVENT
END:VCALENDAR
