BEGIN:VCALENDAR
VERSION:2.0
PRODID:-//empowercdc.org//NONSGML kigkonsult.se iCalcreator 2.30.10//
CALSCALE:GREGORIAN
METHOD:PUBLISH
UID:27a5f412-bae8-4b67-bf75-91224ea43311
X-WR-CALDESC:Exercise:  SIMPLY FIT Chair exercises and chat about the impor
 tance of strength buildling.
X-WR-RELCALID:561e41ab0093dc94acdd2a17f1c9d7d9
X-WR-TIMEZONE:America/Chicago
BEGIN:VTIMEZONE
TZID:America/Chicago
BEGIN:STANDARD
TZNAME:CST
DTSTART:20201101T020000
TZOFFSETFROM:-0500
TZOFFSETTO:-0600
RDATE:20211107T020000
RDATE:20221106T020000
END:STANDARD
BEGIN:DAYLIGHT
TZNAME:CDT
DTSTART:20210314T020000
TZOFFSETFROM:-0600
TZOFFSETTO:-0500
RDATE:20220313T020000
END:DAYLIGHT
END:VTIMEZONE
BEGIN:VEVENT
UID:cb52d40c-efac-465a-841d-e130fcaa5dcb
DTSTAMP:20260424T091345Z
DESCRIPTION:Exercise:  SIMPLY FIT Chair exercises and chat about the import
 ance of strength buildling.
DTSTART;TZID=America/Chicago:20210831T140000
DTEND;TZID=America/Chicago:20210831T170000
LOCATION:
SUMMARY:Exercise:  Simply Fit
END:VEVENT
END:VCALENDAR
