BEGIN:VCALENDAR
VERSION:2.0
PRODID:-//empowercdc.org//NONSGML kigkonsult.se iCalcreator 2.30.10//
CALSCALE:GREGORIAN
METHOD:PUBLISH
UID:46306a58-583d-4683-af99-b464fac2490f
X-WR-CALDESC:Take a trip to Kroger.
X-WR-RELCALID:c0deadfaad0741ee5ba11aacbae1037d
X-WR-TIMEZONE:America/Chicago
BEGIN:VTIMEZONE
TZID:America/Chicago
BEGIN:STANDARD
TZNAME:CST
DTSTART:20201101T020000
TZOFFSETFROM:-0500
TZOFFSETTO:-0600
RDATE:20211107T020000
RDATE:20221106T020000
END:STANDARD
BEGIN:DAYLIGHT
TZNAME:CDT
DTSTART:20210314T020000
TZOFFSETFROM:-0600
TZOFFSETTO:-0500
RDATE:20220313T020000
END:DAYLIGHT
END:VTIMEZONE
BEGIN:VEVENT
UID:ff1c4a75-7e4e-42d8-8bd5-e11e3d213cf4
DTSTAMP:20260424T090757Z
DESCRIPTION:Take a trip to Kroger.
DTSTART;TZID=America/Chicago:20210825T133000
DTEND;TZID=America/Chicago:20210825T150000
LOCATION:
SUMMARY:Transportation: Kroger
END:VEVENT
END:VCALENDAR
