BEGIN:VCALENDAR
VERSION:2.0
PRODID:-//empowercdc.org//NONSGML kigkonsult.se iCalcreator 2.30.10//
CALSCALE:GREGORIAN
METHOD:PUBLISH
UID:7a620e35-9aef-4ce9-b8ce-00e9204efa5b
X-WR-CALDESC:Exercise: Senior Bootcamp with combination of Tai Chi for Seni
 ors\, Chair exercises and chat about the importane of strength buidling.
X-WR-RELCALID:a5e45050798b7fa9171ba90070a71c93
X-WR-TIMEZONE:America/Chicago
BEGIN:VTIMEZONE
TZID:America/Chicago
BEGIN:STANDARD
TZNAME:CST
DTSTART:20201101T020000
TZOFFSETFROM:-0500
TZOFFSETTO:-0600
RDATE:20211107T020000
RDATE:20221106T020000
END:STANDARD
BEGIN:DAYLIGHT
TZNAME:CDT
DTSTART:20210314T020000
TZOFFSETFROM:-0600
TZOFFSETTO:-0500
RDATE:20220313T020000
END:DAYLIGHT
END:VTIMEZONE
BEGIN:VEVENT
UID:8f7269fd-fe1e-4743-a111-75f7875f04be
DTSTAMP:20260424T091350Z
DESCRIPTION:Exercise: Senior Bootcamp with combination of Tai Chi for Senio
 rs\, Chair exercises and chat about the importane of strength buidling.
DTSTART;TZID=America/Chicago:20210825T140000
DTEND;TZID=America/Chicago:20210825T150000
LOCATION:
SUMMARY:Exercise:  Simply Fit
END:VEVENT
END:VCALENDAR
