BEGIN:VCALENDAR
VERSION:2.0
PRODID:-//empowercdc.org//NONSGML kigkonsult.se iCalcreator 2.30.10//
CALSCALE:GREGORIAN
METHOD:PUBLISH
UID:2ab625db-3422-4396-98c4-0b44e1a21d2b
X-WR-CALDESC:Exercise:  SIMPLY FIT Chair exercises and chat about the impor
 tance of strength buildling.
X-WR-RELCALID:ed17c0f4c3fadac7b4fa7eb638c4ffc0
X-WR-TIMEZONE:America/Chicago
BEGIN:VTIMEZONE
TZID:America/Chicago
BEGIN:STANDARD
TZNAME:CST
DTSTART:20201101T020000
TZOFFSETFROM:-0500
TZOFFSETTO:-0600
RDATE:20211107T020000
RDATE:20221106T020000
END:STANDARD
BEGIN:DAYLIGHT
TZNAME:CDT
DTSTART:20210314T020000
TZOFFSETFROM:-0600
TZOFFSETTO:-0500
RDATE:20220313T020000
END:DAYLIGHT
END:VTIMEZONE
BEGIN:VEVENT
UID:aaeade20-724e-4804-a9fc-b31ba4ea6cfb
DTSTAMP:20260424T091351Z
DESCRIPTION:Exercise:  SIMPLY FIT Chair exercises and chat about the import
 ance of strength buildling.
DTSTART;TZID=America/Chicago:20210824T140000
DTEND;TZID=America/Chicago:20210824T170000
LOCATION:
SUMMARY:Exercise:  Simply Fit
END:VEVENT
END:VCALENDAR
