BEGIN:VCALENDAR
VERSION:2.0
PRODID:-//empowercdc.org//NONSGML kigkonsult.se iCalcreator 2.30.10//
CALSCALE:GREGORIAN
METHOD:PUBLISH
UID:560c5d19-4468-44cd-84cf-b22a67c8ef4e
X-WR-CALDESC:
X-WR-RELCALID:47a3a5ca4485353c8ad40835be0c4c2c
X-WR-TIMEZONE:America/Chicago
BEGIN:VTIMEZONE
TZID:America/Chicago
BEGIN:STANDARD
TZNAME:CST
DTSTART:20201101T020000
TZOFFSETFROM:-0500
TZOFFSETTO:-0600
RDATE:20211107T020000
RDATE:20221106T020000
END:STANDARD
BEGIN:DAYLIGHT
TZNAME:CDT
DTSTART:20210314T020000
TZOFFSETFROM:-0600
TZOFFSETTO:-0500
RDATE:20220313T020000
END:DAYLIGHT
END:VTIMEZONE
BEGIN:VEVENT
UID:69ffa3e5-f054-4d00-b45a-3a5331858269
DTSTAMP:20260424T092608Z
DESCRIPTION:
DTSTART;TZID=America/Chicago:20210824T130000
DTEND;TZID=America/Chicago:20210824T140000
LOCATION:
SUMMARY:Arts and Crafts: A Masterpiece in the Making
END:VEVENT
END:VCALENDAR
