BEGIN:VCALENDAR
VERSION:2.0
PRODID:-//empowercdc.org//NONSGML kigkonsult.se iCalcreator 2.30.10//
CALSCALE:GREGORIAN
METHOD:PUBLISH
UID:104995b4-2cf7-4fe5-966d-9c7dcdadf531
X-WR-CALDESC:COME OUT FOR A FREINDLY MEET AND GREET .  THE BEST PART IS THE
  CHARCUTERIE!
X-WR-RELCALID:88858d29a322f6dbfe6ee0d82982ab9c
X-WR-TIMEZONE:America/Chicago
BEGIN:VTIMEZONE
TZID:America/Chicago
BEGIN:STANDARD
TZNAME:CST
DTSTART:20201101T020000
TZOFFSETFROM:-0500
TZOFFSETTO:-0600
RDATE:20211107T020000
RDATE:20221106T020000
END:STANDARD
BEGIN:DAYLIGHT
TZNAME:CDT
DTSTART:20210314T020000
TZOFFSETFROM:-0600
TZOFFSETTO:-0500
RDATE:20220313T020000
END:DAYLIGHT
END:VTIMEZONE
BEGIN:VEVENT
UID:5d8f17f4-4a3a-4c7d-bdd5-7420d9ec161b
DTSTAMP:20260424T091906Z
DESCRIPTION:COME OUT FOR A FREINDLY MEET AND GREET .  THE BEST PART IS THE 
 CHARCUTERIE!
DTSTART;TZID=America/Chicago:20210817T153000
DTEND;TZID=America/Chicago:20210817T163000
LOCATION:
SUMMARY:Meet and Greet
END:VEVENT
END:VCALENDAR
