BEGIN:VCALENDAR
VERSION:2.0
PRODID:-//empowercdc.org//NONSGML kigkonsult.se iCalcreator 2.30.10//
CALSCALE:GREGORIAN
METHOD:PUBLISH
UID:57ea57fa-deb3-47eb-a118-529af0d6e503
X-WR-CALDESC:Come out and express yourself by coloring a Velvet Poster and 
 enjoy snacks with us.
X-WR-RELCALID:0f0bc552947f74f8f9803febbe6453f8
X-WR-TIMEZONE:America/Chicago
BEGIN:VTIMEZONE
TZID:America/Chicago
BEGIN:STANDARD
TZNAME:CST
DTSTART:20201101T020000
TZOFFSETFROM:-0500
TZOFFSETTO:-0600
RDATE:20211107T020000
RDATE:20221106T020000
END:STANDARD
BEGIN:DAYLIGHT
TZNAME:CDT
DTSTART:20210314T020000
TZOFFSETFROM:-0600
TZOFFSETTO:-0500
RDATE:20220313T020000
END:DAYLIGHT
END:VTIMEZONE
BEGIN:VEVENT
UID:ad142405-e9e2-44a4-8937-1175c5e9c994
DTSTAMP:20260424T091115Z
DESCRIPTION:Come out and express yourself by coloring a Velvet Poster and e
 njoy snacks with us.
DTSTART;TZID=America/Chicago:20210817T160000
DTEND;TZID=America/Chicago:20210817T170000
LOCATION:
SUMMARY:DIY Velvet Posters
END:VEVENT
END:VCALENDAR
