BEGIN:VCALENDAR
VERSION:2.0
PRODID:-//empowercdc.org//NONSGML kigkonsult.se iCalcreator 2.30.10//
CALSCALE:GREGORIAN
METHOD:PUBLISH
UID:9ac949bf-f5cb-42c5-a190-05141bb187c3
X-WR-CALDESC:Come out and learn fundamentals way to get centered and mainta
 in control in stress situations.
X-WR-RELCALID:e33a26c0cabebf6510d23c5cf4555533
X-WR-TIMEZONE:America/Chicago
BEGIN:VTIMEZONE
TZID:America/Chicago
BEGIN:STANDARD
TZNAME:CST
DTSTART:20201101T020000
TZOFFSETFROM:-0500
TZOFFSETTO:-0600
RDATE:20211107T020000
RDATE:20221106T020000
END:STANDARD
BEGIN:DAYLIGHT
TZNAME:CDT
DTSTART:20210314T020000
TZOFFSETFROM:-0600
TZOFFSETTO:-0500
RDATE:20220313T020000
END:DAYLIGHT
END:VTIMEZONE
BEGIN:VEVENT
UID:b590513c-f8c7-4e47-bda5-77f6bc574817
DTSTAMP:20260424T090602Z
DESCRIPTION:Come out and learn fundamentals way to get centered and maintai
 n control in stress situations.
DTSTART;TZID=America/Chicago:20210812T160000
DTEND;TZID=America/Chicago:20210812T170000
LOCATION:
SUMMARY:Character Building:  Self-Control
END:VEVENT
END:VCALENDAR
