BEGIN:VCALENDAR
VERSION:2.0
PRODID:-//empowercdc.org//NONSGML kigkonsult.se iCalcreator 2.30.10//
CALSCALE:GREGORIAN
METHOD:PUBLISH
UID:9c96bac7-9796-4be7-8013-742dfa307e99
X-WR-CALDESC:Come out and enjoy a delicious cupcake\, a root beer float and
  a resident dance off.  THIS IS ALWAYS A FUN EVENT.
X-WR-RELCALID:0964cc707892328b8076b7dc5831acf7
X-WR-TIMEZONE:America/Chicago
BEGIN:VTIMEZONE
TZID:America/Chicago
BEGIN:STANDARD
TZNAME:CST
DTSTART:20201101T020000
TZOFFSETFROM:-0500
TZOFFSETTO:-0600
RDATE:20211107T020000
RDATE:20221106T020000
END:STANDARD
BEGIN:DAYLIGHT
TZNAME:CDT
DTSTART:20210314T020000
TZOFFSETFROM:-0600
TZOFFSETTO:-0500
RDATE:20220313T020000
END:DAYLIGHT
END:VTIMEZONE
BEGIN:VEVENT
UID:149d6573-bbed-49f9-b1c2-4be3fe77a243
DTSTAMP:20260424T091135Z
DESCRIPTION:Come out and enjoy a delicious cupcake\, a root beer float and 
 a resident dance off.  THIS IS ALWAYS A FUN EVENT.
DTSTART;TZID=America/Chicago:20210812T150000
DTEND;TZID=America/Chicago:20210812T180000
LOCATION:
SUMMARY:Birthday Social
END:VEVENT
END:VCALENDAR
