BEGIN:VCALENDAR
VERSION:2.0
PRODID:-//empowercdc.org//NONSGML kigkonsult.se iCalcreator 2.30.10//
CALSCALE:GREGORIAN
METHOD:PUBLISH
UID:352b10e6-2cfb-43cc-abde-277b3d5aebd2
X-WR-CALDESC:SMART Lunches are one-hour educational sessions for women pres
 ented for local community\, business\, or service provider partners.  Thes
 e free health seminars cover topics related to all aspects of women’s heal
 th\, including physical\, mental\, occupational\, social and emotional wel
 lness.\n\nThe Women’s Fund aims to provide women with the  skills and know
 ledge they need to proactively take  care of their health\, build resilien
 cy\, and make  healthier choices for themselves and their families.
X-WR-RELCALID:5f3dcd6de670e5d8c2c9f79a9e058804
X-WR-TIMEZONE:America/Chicago
BEGIN:VTIMEZONE
TZID:America/Chicago
BEGIN:STANDARD
TZNAME:CST
DTSTART:20201101T020000
TZOFFSETFROM:-0500
TZOFFSETTO:-0600
RDATE:20211107T020000
RDATE:20221106T020000
END:STANDARD
BEGIN:DAYLIGHT
TZNAME:CDT
DTSTART:20210314T020000
TZOFFSETFROM:-0600
TZOFFSETTO:-0500
RDATE:20220313T020000
END:DAYLIGHT
END:VTIMEZONE
BEGIN:VEVENT
UID:58348d86-6ea2-4746-beca-5e3927b75e45
DTSTAMP:20260424T091510Z
DESCRIPTION:SMART Lunches are one-hour educational sessions for women prese
 nted for local community\, business\, or service provider partners.  These
  free health seminars cover topics related to all aspects of women’s healt
 h\, including physical\, mental\, occupational\, social and emotional well
 ness.\n\nThe Women’s Fund aims to provide women with the  skills and knowl
 edge they need to proactively take  care of their health\, build resilienc
 y\, and make  healthier choices for themselves and their families.
DTSTART;TZID=America/Chicago:20210810T130000
DTEND;TZID=America/Chicago:20210810T140000
LOCATION:
SUMMARY:Smart Lunch:  The Women's Fund
END:VEVENT
END:VCALENDAR
