BEGIN:VCALENDAR
VERSION:2.0
PRODID:-//empowercdc.org//NONSGML kigkonsult.se iCalcreator 2.30.10//
CALSCALE:GREGORIAN
METHOD:PUBLISH
UID:b7f71309-2f25-4ca3-9a9a-517fa085ab64
X-WR-CALDESC:Come out and express yourself by coloring a Velvet Poster and 
 enjoy snacks with us.
X-WR-RELCALID:52f78a325b7fa2892204c07ba057005e
X-WR-TIMEZONE:America/Chicago
BEGIN:VTIMEZONE
TZID:America/Chicago
BEGIN:STANDARD
TZNAME:CST
DTSTART:20201101T020000
TZOFFSETFROM:-0500
TZOFFSETTO:-0600
RDATE:20211107T020000
RDATE:20221106T020000
END:STANDARD
BEGIN:DAYLIGHT
TZNAME:CDT
DTSTART:20210314T020000
TZOFFSETFROM:-0600
TZOFFSETTO:-0500
RDATE:20220313T020000
END:DAYLIGHT
END:VTIMEZONE
BEGIN:VEVENT
UID:2dcb7553-e56a-4000-822b-08e77ca17193
DTSTAMP:20260424T091115Z
DESCRIPTION:Come out and express yourself by coloring a Velvet Poster and e
 njoy snacks with us.
DTSTART;TZID=America/Chicago:20210810T160000
DTEND;TZID=America/Chicago:20210810T170000
LOCATION:
SUMMARY:DIY Velvet Posters
END:VEVENT
END:VCALENDAR
