BEGIN:VCALENDAR
VERSION:2.0
PRODID:-//empowercdc.org//NONSGML kigkonsult.se iCalcreator 2.30.10//
CALSCALE:GREGORIAN
METHOD:PUBLISH
UID:7e34a65a-179b-4a6c-8db0-0842bc5b9f58
X-WR-CALDESC:Come out and enjoy a delicious cupcake\, a root beer float and
  a resident dance off.  THIS IS ALWAYS A FUN EVENT.
X-WR-RELCALID:316a46f84d3781bc0e82d07060c09558
X-WR-TIMEZONE:America/Chicago
BEGIN:VTIMEZONE
TZID:America/Chicago
BEGIN:STANDARD
TZNAME:CST
DTSTART:20201101T020000
TZOFFSETFROM:-0500
TZOFFSETTO:-0600
RDATE:20211107T020000
RDATE:20221106T020000
END:STANDARD
BEGIN:DAYLIGHT
TZNAME:CDT
DTSTART:20210314T020000
TZOFFSETFROM:-0600
TZOFFSETTO:-0500
RDATE:20220313T020000
END:DAYLIGHT
END:VTIMEZONE
BEGIN:VEVENT
UID:0eb25794-5f3a-4457-bb6c-7509d1e25c1e
DTSTAMP:20260424T091135Z
DESCRIPTION:Come out and enjoy a delicious cupcake\, a root beer float and 
 a resident dance off.  THIS IS ALWAYS A FUN EVENT.
DTSTART;TZID=America/Chicago:20210810T150000
DTEND;TZID=America/Chicago:20210810T160000
LOCATION:
SUMMARY:Birthday Social
END:VEVENT
END:VCALENDAR
