BEGIN:VCALENDAR
VERSION:2.0
PRODID:-//empowercdc.org//NONSGML kigkonsult.se iCalcreator 2.30.10//
CALSCALE:GREGORIAN
METHOD:PUBLISH
UID:b8866c30-6643-466f-a2ea-654cca3278f1
X-WR-CALDESC:Exercise: Senior Bootcamp with combination of Tai Chi for Seni
 ors\, Chair exercises and chat about the importane of strength buidling.
X-WR-RELCALID:67cbd6372935c8212c9cd3aeea9f8298
X-WR-TIMEZONE:America/Chicago
BEGIN:VTIMEZONE
TZID:America/Chicago
BEGIN:STANDARD
TZNAME:CST
DTSTART:20201101T020000
TZOFFSETFROM:-0500
TZOFFSETTO:-0600
RDATE:20211107T020000
RDATE:20221106T020000
END:STANDARD
BEGIN:DAYLIGHT
TZNAME:CDT
DTSTART:20210314T020000
TZOFFSETFROM:-0600
TZOFFSETTO:-0500
RDATE:20220313T020000
END:DAYLIGHT
END:VTIMEZONE
BEGIN:VEVENT
UID:526feeea-7353-49fd-95e9-33eec399ac1f
DTSTAMP:20260424T091211Z
DESCRIPTION:Exercise: Senior Bootcamp with combination of Tai Chi for Senio
 rs\, Chair exercises and chat about the importane of strength buidling.
DTSTART;TZID=America/Chicago:20210804T140000
DTEND;TZID=America/Chicago:20210804T150000
LOCATION:
SUMMARY:Exercise:  Simply Fit
END:VEVENT
END:VCALENDAR
