BEGIN:VCALENDAR
VERSION:2.0
PRODID:-//empowercdc.org//NONSGML kigkonsult.se iCalcreator 2.30.10//
CALSCALE:GREGORIAN
METHOD:PUBLISH
UID:7561f91e-2071-42d4-a148-a98571a4514f
X-WR-CALDESC:Come and get a Free coloring book to relax.  Studies show that
  coloring reduces stress and sparks creativity and positivity.
X-WR-RELCALID:f3b82fa71c9a297d8ecb89ae7f686ca4
X-WR-TIMEZONE:America/Chicago
BEGIN:VTIMEZONE
TZID:America/Chicago
BEGIN:STANDARD
TZNAME:CST
DTSTART:20201101T020000
TZOFFSETFROM:-0500
TZOFFSETTO:-0600
RDATE:20211107T020000
RDATE:20221106T020000
END:STANDARD
BEGIN:DAYLIGHT
TZNAME:CDT
DTSTART:20210314T020000
TZOFFSETFROM:-0600
TZOFFSETTO:-0500
RDATE:20220313T020000
END:DAYLIGHT
END:VTIMEZONE
BEGIN:VEVENT
UID:8c3d6d6b-eee8-4dd7-9266-4c25decfbf47
DTSTAMP:20260424T091017Z
DESCRIPTION:Come and get a Free coloring book to relax.  Studies show that 
 coloring reduces stress and sparks creativity and positivity.
DTSTART;TZID=America/Chicago:20210803T160000
DTEND;TZID=America/Chicago:20210803T170000
LOCATION:
SUMMARY:COLOR ME CRAZY
END:VEVENT
END:VCALENDAR
