BEGIN:VCALENDAR
VERSION:2.0
PRODID:-//empowercdc.org//NONSGML kigkonsult.se iCalcreator 2.30.10//
CALSCALE:GREGORIAN
METHOD:PUBLISH
UID:6f2b0ee1-fe23-4c9d-91c5-6a6f31caf0d1
X-WR-CALDESC:Exercise:  SIMPLY FIT Chair exercises and chat about the impor
 tance of strength buildling.
X-WR-RELCALID:33222b45fc81b6372afb78ebfbb5fe80
X-WR-TIMEZONE:America/Chicago
BEGIN:VTIMEZONE
TZID:America/Chicago
BEGIN:STANDARD
TZNAME:CST
DTSTART:20201101T020000
TZOFFSETFROM:-0500
TZOFFSETTO:-0600
RDATE:20211107T020000
RDATE:20221106T020000
END:STANDARD
BEGIN:DAYLIGHT
TZNAME:CDT
DTSTART:20210314T020000
TZOFFSETFROM:-0600
TZOFFSETTO:-0500
RDATE:20220313T020000
END:DAYLIGHT
END:VTIMEZONE
BEGIN:VEVENT
UID:71bdcb3f-2208-483d-8a35-ac0901e26612
DTSTAMP:20260424T091239Z
DESCRIPTION:Exercise:  SIMPLY FIT Chair exercises and chat about the import
 ance of strength buildling.
DTSTART;TZID=America/Chicago:20210803T140000
DTEND;TZID=America/Chicago:20210803T170000
LOCATION:
SUMMARY:Exercise:  Simply Fit
END:VEVENT
END:VCALENDAR
