BEGIN:VCALENDAR
VERSION:2.0
PRODID:-//empowercdc.org//NONSGML kigkonsult.se iCalcreator 2.30.10//
CALSCALE:GREGORIAN
METHOD:PUBLISH
UID:a1b9c3b0-b999-4948-85b6-28c753856137
X-WR-CALDESC:Come and get a Free coloring book to relax.  Studies show that
  coloring reduces stress and sparks creativity and positivity.
X-WR-RELCALID:29168d70f7592671ef277e2d5168f11d
X-WR-TIMEZONE:America/Chicago
BEGIN:VTIMEZONE
TZID:America/Chicago
BEGIN:STANDARD
TZNAME:CST
DTSTART:20201101T020000
TZOFFSETFROM:-0500
TZOFFSETTO:-0600
RDATE:20211107T020000
RDATE:20221106T020000
END:STANDARD
BEGIN:DAYLIGHT
TZNAME:CDT
DTSTART:20210314T020000
TZOFFSETFROM:-0600
TZOFFSETTO:-0500
RDATE:20220313T020000
END:DAYLIGHT
END:VTIMEZONE
BEGIN:VEVENT
UID:47bdd832-3848-4d5a-a7d6-1243d9e06c58
DTSTAMP:20260424T091013Z
DESCRIPTION:Come and get a Free coloring book to relax.  Studies show that 
 coloring reduces stress and sparks creativity and positivity.
DTSTART;TZID=America/Chicago:20210802T160000
DTEND;TZID=America/Chicago:20210802T170000
LOCATION:
SUMMARY:COLOR ME CRAZY
END:VEVENT
END:VCALENDAR
