BEGIN:VCALENDAR
VERSION:2.0
PRODID:-//empowercdc.org//NONSGML kigkonsult.se iCalcreator 2.30.10//
CALSCALE:GREGORIAN
METHOD:PUBLISH
UID:9070894b-b5bc-4794-b5af-4f6dab296e72
X-WR-CALDESC:Come out and enjoy a delicious cupcake\, a root beer float and
  a resident dance off.  THIS IS ALWAYS A FUN EVENT.
X-WR-RELCALID:dfeb533afa7fc6bb85c38e77cb8e91f2
X-WR-TIMEZONE:America/Chicago
BEGIN:VTIMEZONE
TZID:America/Chicago
BEGIN:STANDARD
TZNAME:CST
DTSTART:20201101T020000
TZOFFSETFROM:-0500
TZOFFSETTO:-0600
RDATE:20211107T020000
RDATE:20221106T020000
END:STANDARD
BEGIN:DAYLIGHT
TZNAME:CDT
DTSTART:20210314T020000
TZOFFSETFROM:-0600
TZOFFSETTO:-0500
RDATE:20220313T020000
END:DAYLIGHT
END:VTIMEZONE
BEGIN:VEVENT
UID:4b3271ad-6e40-4ea9-baca-e271103ed40c
DTSTAMP:20260424T091042Z
DESCRIPTION:Come out and enjoy a delicious cupcake\, a root beer float and 
 a resident dance off.  THIS IS ALWAYS A FUN EVENT.
DTSTART;TZID=America/Chicago:20210802T150000
DTEND;TZID=America/Chicago:20210802T160000
LOCATION:
SUMMARY:Birthday Social
END:VEVENT
END:VCALENDAR
