BEGIN:VCALENDAR
VERSION:2.0
PRODID:-//empowercdc.org//NONSGML kigkonsult.se iCalcreator 2.30.10//
CALSCALE:GREGORIAN
METHOD:PUBLISH
UID:f1486088-484b-4dd9-a7a2-73215b92d9b8
X-WR-CALDESC:Backyard Bootcamp.. Virtual Videos of Beginners Workouts
X-WR-RELCALID:a06716e8668040760c731ae9773075bc
X-WR-TIMEZONE:America/Chicago
BEGIN:VTIMEZONE
TZID:America/Chicago
BEGIN:STANDARD
TZNAME:CST
DTSTART:20201101T020000
TZOFFSETFROM:-0500
TZOFFSETTO:-0600
RDATE:20211107T020000
RDATE:20221106T020000
END:STANDARD
BEGIN:DAYLIGHT
TZNAME:CDT
DTSTART:20210314T020000
TZOFFSETFROM:-0600
TZOFFSETTO:-0500
RDATE:20220313T020000
END:DAYLIGHT
END:VTIMEZONE
BEGIN:VEVENT
UID:5ec55d8b-2c18-419c-90e6-989c21a90d57
DTSTAMP:20260424T102552Z
DESCRIPTION:Backyard Bootcamp.. Virtual Videos of Beginners Workouts
DTSTART;TZID=America/Chicago:20210730T110000
DTEND;TZID=America/Chicago:20210730T120000
LOCATION:
SUMMARY:Exercise: Virtual BACKYARD BOOTCAMP
END:VEVENT
END:VCALENDAR
