BEGIN:VCALENDAR
VERSION:2.0
PRODID:-//empowercdc.org//NONSGML kigkonsult.se iCalcreator 2.30.10//
CALSCALE:GREGORIAN
METHOD:PUBLISH
UID:f6852ad7-c520-42bb-bcb8-ad68390d5b04
X-WR-CALDESC:Exercise: Senior Bootcamp with combination of Tai Chi for Seni
 ors\, Chair exercises and chat about the importane of strength buidling.
X-WR-RELCALID:41f028210257cc8463cf8bb52273aa40
X-WR-TIMEZONE:America/Chicago
BEGIN:VTIMEZONE
TZID:America/Chicago
BEGIN:STANDARD
TZNAME:CST
DTSTART:20201101T020000
TZOFFSETFROM:-0500
TZOFFSETTO:-0600
RDATE:20211107T020000
RDATE:20221106T020000
END:STANDARD
BEGIN:DAYLIGHT
TZNAME:CDT
DTSTART:20210314T020000
TZOFFSETFROM:-0600
TZOFFSETTO:-0500
RDATE:20220313T020000
END:DAYLIGHT
END:VTIMEZONE
BEGIN:VEVENT
UID:a1d69c60-08fb-4981-b2b8-fa48fbfc1858
DTSTAMP:20260424T103134Z
DESCRIPTION:Exercise: Senior Bootcamp with combination of Tai Chi for Senio
 rs\, Chair exercises and chat about the importane of strength buidling.
DTSTART;TZID=America/Chicago:20210728T140000
DTEND;TZID=America/Chicago:20210728T150000
LOCATION:
SUMMARY:Exercise:  Senior Bootcamp
END:VEVENT
END:VCALENDAR
