BEGIN:VCALENDAR
VERSION:2.0
PRODID:-//empowercdc.org//NONSGML kigkonsult.se iCalcreator 2.30.10//
CALSCALE:GREGORIAN
METHOD:PUBLISH
UID:d3685a9e-bb35-4401-ad1f-9163aa1308d0
X-WR-CALDESC:
X-WR-RELCALID:8a1d45b6528d57c60cfb48498e3225f1
X-WR-TIMEZONE:America/Chicago
BEGIN:VTIMEZONE
TZID:America/Chicago
BEGIN:STANDARD
TZNAME:CST
DTSTART:20201101T020000
TZOFFSETFROM:-0500
TZOFFSETTO:-0600
RDATE:20211107T020000
RDATE:20221106T020000
END:STANDARD
BEGIN:DAYLIGHT
TZNAME:CDT
DTSTART:20210314T020000
TZOFFSETFROM:-0600
TZOFFSETTO:-0500
RDATE:20220313T020000
END:DAYLIGHT
END:VTIMEZONE
BEGIN:VEVENT
UID:f8ec53ab-ff49-4beb-b040-fcd9be114543
DTSTAMP:20260424T104824Z
DESCRIPTION:
DTSTART;TZID=America/Chicago:20210727T130000
DTEND;TZID=America/Chicago:20210727T140000
LOCATION:
SUMMARY:Arts and Crafts: A Masterpiece in the Making
END:VEVENT
END:VCALENDAR
