BEGIN:VCALENDAR
VERSION:2.0
PRODID:-//empowercdc.org//NONSGML kigkonsult.se iCalcreator 2.30.10//
CALSCALE:GREGORIAN
METHOD:PUBLISH
UID:0e1a1947-4f28-4d31-a24f-77d538279049
X-WR-CALDESC:Meet and Greet your Neighbors
X-WR-RELCALID:20ae1df41d5b55f510f28a9fe1e1b20d
X-WR-TIMEZONE:America/Chicago
BEGIN:VTIMEZONE
TZID:America/Chicago
BEGIN:STANDARD
TZNAME:CST
DTSTART:20201101T020000
TZOFFSETFROM:-0500
TZOFFSETTO:-0600
RDATE:20211107T020000
RDATE:20221106T020000
END:STANDARD
BEGIN:DAYLIGHT
TZNAME:CDT
DTSTART:20210314T020000
TZOFFSETFROM:-0600
TZOFFSETTO:-0500
RDATE:20220313T020000
END:DAYLIGHT
END:VTIMEZONE
BEGIN:VEVENT
UID:241e315c-3203-4333-854c-a5403c96050a
DTSTAMP:20260424T104337Z
DESCRIPTION:Meet and Greet your Neighbors
DTSTART;TZID=America/Chicago:20210726T140000
DTEND;TZID=America/Chicago:20210726T150000
LOCATION:
SUMMARY:SOCIAL:  Meet and Greet
END:VEVENT
END:VCALENDAR
