BEGIN:VCALENDAR
VERSION:2.0
PRODID:-//empowercdc.org//NONSGML kigkonsult.se iCalcreator 2.30.10//
CALSCALE:GREGORIAN
METHOD:PUBLISH
UID:4b3192ce-c0a4-424e-bc29-e455b9eaee6a
X-WR-CALDESC:Character Building Course for the youth
X-WR-RELCALID:a527ce5ed9fc5fcc67a707c4dc5ef7ac
X-WR-TIMEZONE:America/Chicago
BEGIN:VTIMEZONE
TZID:America/Chicago
BEGIN:STANDARD
TZNAME:CST
DTSTART:20201101T020000
TZOFFSETFROM:-0500
TZOFFSETTO:-0600
RDATE:20211107T020000
RDATE:20221106T020000
END:STANDARD
BEGIN:DAYLIGHT
TZNAME:CDT
DTSTART:20210314T020000
TZOFFSETFROM:-0600
TZOFFSETTO:-0500
RDATE:20220313T020000
END:DAYLIGHT
END:VTIMEZONE
BEGIN:VEVENT
UID:4ade918b-bae0-4470-9ea5-9b4a9b8ab041
DTSTAMP:20260424T104042Z
DESCRIPTION:Character Building Course for the youth
DTSTART;TZID=America/Chicago:20210726T160000
DTEND;TZID=America/Chicago:20210726T170000
LOCATION:
SUMMARY:Character Building:  RESPECT
END:VEVENT
END:VCALENDAR
