BEGIN:VCALENDAR
VERSION:2.0
PRODID:-//empowercdc.org//NONSGML kigkonsult.se iCalcreator 2.30.10//
CALSCALE:GREGORIAN
METHOD:PUBLISH
UID:bd65e73e-73f3-4057-8c69-38ea96741a90
X-WR-CALDESC:Exercise: Walk-n-Talk Program.. Meet with Better Living for Te
 xans (8-week course)
X-WR-RELCALID:d67728dfc77aa0a5f40ceb5f9cc1cd56
X-WR-TIMEZONE:America/Chicago
BEGIN:VTIMEZONE
TZID:America/Chicago
BEGIN:STANDARD
TZNAME:CST
DTSTART:20201101T020000
TZOFFSETFROM:-0500
TZOFFSETTO:-0600
RDATE:20211107T020000
RDATE:20221106T020000
END:STANDARD
BEGIN:DAYLIGHT
TZNAME:CDT
DTSTART:20210314T020000
TZOFFSETFROM:-0600
TZOFFSETTO:-0500
RDATE:20220313T020000
END:DAYLIGHT
END:VTIMEZONE
BEGIN:VEVENT
UID:0a0d8cb7-e9bb-4884-8fd5-f875b16c95e0
DTSTAMP:20260424T103705Z
DESCRIPTION:Exercise: Walk-n-Talk Program.. Meet with Better Living for Tex
 ans (8-week course)
DTSTART;TZID=America/Chicago:20210723T110000
DTEND;TZID=America/Chicago:20210723T120000
LOCATION:
SUMMARY:Exercise:  WALK-n-TALK PROGRAM
END:VEVENT
END:VCALENDAR
