BEGIN:VCALENDAR
VERSION:2.0
PRODID:-//empowercdc.org//NONSGML kigkonsult.se iCalcreator 2.30.10//
CALSCALE:GREGORIAN
METHOD:PUBLISH
UID:b5526f61-3d0a-4012-bb22-3e7dd4566919
X-WR-CALDESC:
X-WR-RELCALID:263fee90f016302efcd7963115abb800
X-WR-TIMEZONE:America/Chicago
BEGIN:VTIMEZONE
TZID:America/Chicago
BEGIN:STANDARD
TZNAME:CST
DTSTART:20201101T020000
TZOFFSETFROM:-0500
TZOFFSETTO:-0600
RDATE:20211107T020000
RDATE:20221106T020000
END:STANDARD
BEGIN:DAYLIGHT
TZNAME:CDT
DTSTART:20210314T020000
TZOFFSETFROM:-0600
TZOFFSETTO:-0500
RDATE:20220313T020000
END:DAYLIGHT
END:VTIMEZONE
BEGIN:VEVENT
UID:7560df1b-b55b-4cb5-abbe-c758cf39bc33
DTSTAMP:20260424T104154Z
DESCRIPTION:
DTSTART;TZID=America/Chicago:20210722T140000
DTEND;TZID=America/Chicago:20210722T150000
LOCATION:
SUMMARY:'Shop' With EBH!
END:VEVENT
END:VCALENDAR
