BEGIN:VCALENDAR
VERSION:2.0
PRODID:-//empowercdc.org//NONSGML kigkonsult.se iCalcreator 2.30.10//
CALSCALE:GREGORIAN
METHOD:PUBLISH
UID:bcfc96f5-c3ac-4ce4-897b-3ad1988e9705
X-WR-CALDESC:We're bringing a bit of the casino to Hollyoak.  Residents wil
 l enjoy a nice snack and play blackjack with their Resident Engagement Spe
 cialist.  COME ONE..COME ALL!
X-WR-RELCALID:24d4372790d003371ae8bd335c90b75c
X-WR-TIMEZONE:America/Chicago
BEGIN:VTIMEZONE
TZID:America/Chicago
BEGIN:STANDARD
TZNAME:CST
DTSTART:20201101T020000
TZOFFSETFROM:-0500
TZOFFSETTO:-0600
RDATE:20211107T020000
RDATE:20221106T020000
END:STANDARD
BEGIN:DAYLIGHT
TZNAME:CDT
DTSTART:20210314T020000
TZOFFSETFROM:-0600
TZOFFSETTO:-0500
RDATE:20220313T020000
END:DAYLIGHT
END:VTIMEZONE
BEGIN:VEVENT
UID:2e08e4f4-132a-4697-a73f-3fa43c1724c4
DTSTAMP:20260424T102935Z
DESCRIPTION:We're bringing a bit of the casino to Hollyoak.  Residents will
  enjoy a nice snack and play blackjack with their Resident Engagement Spec
 ialist.  COME ONE..COME ALL!
DTSTART;TZID=America/Chicago:20210721T150000
DTEND;TZID=America/Chicago:20210721T160000
LOCATION:
SUMMARY:Meet and Greet:  BLACKJACK
END:VEVENT
END:VCALENDAR
