BEGIN:VCALENDAR
VERSION:2.0
PRODID:-//empowercdc.org//NONSGML kigkonsult.se iCalcreator 2.30.10//
CALSCALE:GREGORIAN
METHOD:PUBLISH
UID:343b1b93-c250-481a-a4c8-edd8e5b4cef0
X-WR-CALDESC:PAINT. CANVAS. CREATIVITY....with a Twis
X-WR-RELCALID:18810e66a12090afda3bd015f3653a9c
X-WR-TIMEZONE:America/Chicago
BEGIN:VTIMEZONE
TZID:America/Chicago
BEGIN:STANDARD
TZNAME:CST
DTSTART:20201101T020000
TZOFFSETFROM:-0500
TZOFFSETTO:-0600
RDATE:20211107T020000
RDATE:20221106T020000
END:STANDARD
BEGIN:DAYLIGHT
TZNAME:CDT
DTSTART:20210314T020000
TZOFFSETFROM:-0600
TZOFFSETTO:-0500
RDATE:20220313T020000
END:DAYLIGHT
END:VTIMEZONE
BEGIN:VEVENT
UID:db6463dd-4076-4313-88f4-f3684a2a7086
DTSTAMP:20260424T104331Z
DESCRIPTION:PAINT. CANVAS. CREATIVITY....with a Twis
DTSTART;TZID=America/Chicago:20210721T160000
DTEND;TZID=America/Chicago:20210721T170000
LOCATION:
SUMMARY:Arts and Crafts:  Paint with a Twist
END:VEVENT
END:VCALENDAR
