BEGIN:VCALENDAR
VERSION:2.0
PRODID:-//empowercdc.org//NONSGML kigkonsult.se iCalcreator 2.30.10//
CALSCALE:GREGORIAN
METHOD:PUBLISH
UID:45118e7a-b226-42d4-b131-f7aaead3fe8f
X-WR-CALDESC:Exercise: Senior Bootcamp with combination of Tai Chi for Seni
 ors\, Chair exercises and chat about the importane of strength buidling.
X-WR-RELCALID:1c6642dd5743193c57b6b77ab8b9af0d
X-WR-TIMEZONE:America/Chicago
BEGIN:VTIMEZONE
TZID:America/Chicago
BEGIN:STANDARD
TZNAME:CST
DTSTART:20201101T020000
TZOFFSETFROM:-0500
TZOFFSETTO:-0600
RDATE:20211107T020000
RDATE:20221106T020000
END:STANDARD
BEGIN:DAYLIGHT
TZNAME:CDT
DTSTART:20210314T020000
TZOFFSETFROM:-0600
TZOFFSETTO:-0500
RDATE:20220313T020000
END:DAYLIGHT
END:VTIMEZONE
BEGIN:VEVENT
UID:f65da464-3954-4d69-a1e2-dbe09b9e9cf2
DTSTAMP:20260424T102447Z
DESCRIPTION:Exercise: Senior Bootcamp with combination of Tai Chi for Senio
 rs\, Chair exercises and chat about the importane of strength buidling.
DTSTART;TZID=America/Chicago:20210721T140000
DTEND;TZID=America/Chicago:20210721T150000
LOCATION:
SUMMARY:Exercise:  Senior Bootcamp
END:VEVENT
END:VCALENDAR
