BEGIN:VCALENDAR
VERSION:2.0
PRODID:-//empowercdc.org//NONSGML kigkonsult.se iCalcreator 2.30.10//
CALSCALE:GREGORIAN
METHOD:PUBLISH
UID:06334e56-fe53-45d6-8c02-ff27e5a6859a
X-WR-CALDESC:
X-WR-RELCALID:e1095171f955becc5cb173c7f8507542
X-WR-TIMEZONE:America/Chicago
BEGIN:VTIMEZONE
TZID:America/Chicago
BEGIN:STANDARD
TZNAME:CST
DTSTART:20201101T020000
TZOFFSETFROM:-0500
TZOFFSETTO:-0600
RDATE:20211107T020000
RDATE:20221106T020000
END:STANDARD
BEGIN:DAYLIGHT
TZNAME:CDT
DTSTART:20210314T020000
TZOFFSETFROM:-0600
TZOFFSETTO:-0500
RDATE:20220313T020000
END:DAYLIGHT
END:VTIMEZONE
BEGIN:VEVENT
UID:9be2f928-eb01-4e9e-9d77-725a68c9b91a
DTSTAMP:20260424T102729Z
DESCRIPTION:
DTSTART;TZID=America/Chicago:20210719T130000
DTEND;TZID=America/Chicago:20210719T140000
LOCATION:
SUMMARY:Lunch and Learn
END:VEVENT
END:VCALENDAR
