BEGIN:VCALENDAR
VERSION:2.0
PRODID:-//empowercdc.org//NONSGML kigkonsult.se iCalcreator 2.30.10//
CALSCALE:GREGORIAN
METHOD:PUBLISH
UID:22b568de-6466-4ce2-a1bb-842baa814fbf
X-WR-CALDESC:Backyard Bootcamp.. Virtual Videos of Beginners Workouts
X-WR-RELCALID:ad26e17fb5d6ab39d9e03738b74766d2
X-WR-TIMEZONE:America/Chicago
BEGIN:VTIMEZONE
TZID:America/Chicago
BEGIN:STANDARD
TZNAME:CST
DTSTART:20201101T020000
TZOFFSETFROM:-0500
TZOFFSETTO:-0600
RDATE:20211107T020000
RDATE:20221106T020000
END:STANDARD
BEGIN:DAYLIGHT
TZNAME:CDT
DTSTART:20210314T020000
TZOFFSETFROM:-0600
TZOFFSETTO:-0500
RDATE:20220313T020000
END:DAYLIGHT
END:VTIMEZONE
BEGIN:VEVENT
UID:63ed23e4-c341-4792-ab7e-fe0e3b297b25
DTSTAMP:20260424T102633Z
DESCRIPTION:Backyard Bootcamp.. Virtual Videos of Beginners Workouts
DTSTART;TZID=America/Chicago:20210716T110000
DTEND;TZID=America/Chicago:20210716T120000
LOCATION:
SUMMARY:Exercise: Virtual BACKYARD BOOTCAMP
END:VEVENT
END:VCALENDAR
