BEGIN:VCALENDAR
VERSION:2.0
PRODID:-//empowercdc.org//NONSGML kigkonsult.se iCalcreator 2.30.10//
CALSCALE:GREGORIAN
METHOD:PUBLISH
UID:c0a1e803-8a53-4bfd-b82b-41ef8a804736
X-WR-CALDESC:
X-WR-RELCALID:43191285312c7d56b26f5f38af71f688
X-WR-TIMEZONE:America/Chicago
BEGIN:VTIMEZONE
TZID:America/Chicago
BEGIN:STANDARD
TZNAME:CST
DTSTART:20201101T020000
TZOFFSETFROM:-0500
TZOFFSETTO:-0600
RDATE:20211107T020000
RDATE:20221106T020000
END:STANDARD
BEGIN:DAYLIGHT
TZNAME:CDT
DTSTART:20210314T020000
TZOFFSETFROM:-0600
TZOFFSETTO:-0500
RDATE:20220313T020000
END:DAYLIGHT
END:VTIMEZONE
BEGIN:VEVENT
UID:0b81de09-85df-4de4-b106-c924532ad842
DTSTAMP:20260424T104222Z
DESCRIPTION:
DTSTART;TZID=America/Chicago:20210714T130000
DTEND;TZID=America/Chicago:20210714T140000
LOCATION:
SUMMARY:Jeopardy: Financial Planning Edition
END:VEVENT
END:VCALENDAR
