BEGIN:VCALENDAR
VERSION:2.0
PRODID:-//empowercdc.org//NONSGML kigkonsult.se iCalcreator 2.30.10//
CALSCALE:GREGORIAN
METHOD:PUBLISH
UID:6b206c52-06b3-48b2-8094-e285e14fc60a
X-WR-CALDESC:Exercise: Senior Bootcamp with combination of Tai Chi for Seni
 ors\, Chair exercises and chat about the importane of strength buidling.
X-WR-RELCALID:74f2d221569048a35405b80a89ee49ba
X-WR-TIMEZONE:America/Chicago
BEGIN:VTIMEZONE
TZID:America/Chicago
BEGIN:STANDARD
TZNAME:CST
DTSTART:20201101T020000
TZOFFSETFROM:-0500
TZOFFSETTO:-0600
RDATE:20211107T020000
RDATE:20221106T020000
END:STANDARD
BEGIN:DAYLIGHT
TZNAME:CDT
DTSTART:20210314T020000
TZOFFSETFROM:-0600
TZOFFSETTO:-0500
RDATE:20220313T020000
END:DAYLIGHT
END:VTIMEZONE
BEGIN:VEVENT
UID:9de857a4-0e4a-49f2-a8bd-7cf027157452
DTSTAMP:20260424T103017Z
DESCRIPTION:Exercise: Senior Bootcamp with combination of Tai Chi for Senio
 rs\, Chair exercises and chat about the importane of strength buidling.
DTSTART;TZID=America/Chicago:20210714T140000
DTEND;TZID=America/Chicago:20210714T150000
LOCATION:
SUMMARY:Exercise:  Senior Bootcamp
END:VEVENT
END:VCALENDAR
