BEGIN:VCALENDAR
VERSION:2.0
PRODID:-//empowercdc.org//NONSGML kigkonsult.se iCalcreator 2.30.10//
CALSCALE:GREGORIAN
METHOD:PUBLISH
UID:6bea9d37-0a42-4007-9294-2d8799827fad
X-WR-CALDESC:Happy Birthday to ALL July Birthdays.  Come out an enjoy some 
 cupcakes\, ice cream and great music. Everyone is encouraged to participat
 e.
X-WR-RELCALID:cf2bb5d4bd4bba68a4ad777d63e9d68a
X-WR-TIMEZONE:America/Chicago
BEGIN:VTIMEZONE
TZID:America/Chicago
BEGIN:STANDARD
TZNAME:CST
DTSTART:20201101T020000
TZOFFSETFROM:-0500
TZOFFSETTO:-0600
RDATE:20211107T020000
RDATE:20221106T020000
END:STANDARD
BEGIN:DAYLIGHT
TZNAME:CDT
DTSTART:20210314T020000
TZOFFSETFROM:-0600
TZOFFSETTO:-0500
RDATE:20220313T020000
END:DAYLIGHT
END:VTIMEZONE
BEGIN:VEVENT
UID:eee77169-4580-4986-8e36-bbeb2e8badff
DTSTAMP:20260424T104456Z
DESCRIPTION:Happy Birthday to ALL July Birthdays.  Come out an enjoy some c
 upcakes\, ice cream and great music. Everyone is encouraged to participate
 .
DTSTART;TZID=America/Chicago:20210713T150000
DTEND;TZID=America/Chicago:20210713T160000
LOCATION:
SUMMARY:SOCIAL:  Birthday Social
END:VEVENT
END:VCALENDAR
