BEGIN:VCALENDAR
VERSION:2.0
PRODID:-//empowercdc.org//NONSGML kigkonsult.se iCalcreator 2.30.10//
CALSCALE:GREGORIAN
METHOD:PUBLISH
UID:6c4b849c-8659-4661-a1d7-3928363f91f1
X-WR-CALDESC:Beautiful DIY Project to place in your window when completed.
X-WR-RELCALID:a0b2025ab32eaeafbcd14d4fe03913af
X-WR-TIMEZONE:America/Chicago
BEGIN:VTIMEZONE
TZID:America/Chicago
BEGIN:STANDARD
TZNAME:CST
DTSTART:20201101T020000
TZOFFSETFROM:-0500
TZOFFSETTO:-0600
RDATE:20211107T020000
RDATE:20221106T020000
END:STANDARD
BEGIN:DAYLIGHT
TZNAME:CDT
DTSTART:20210314T020000
TZOFFSETFROM:-0600
TZOFFSETTO:-0500
RDATE:20220313T020000
END:DAYLIGHT
END:VTIMEZONE
BEGIN:VEVENT
UID:7fff9370-eb85-474e-a871-f46277299916
DTSTAMP:20260424T104618Z
DESCRIPTION:Beautiful DIY Project to place in your window when completed.
DTSTART;TZID=America/Chicago:20210713T160000
DTEND;TZID=America/Chicago:20210713T170000
LOCATION:
SUMMARY:Arts and Crafts:  Suncatchers
END:VEVENT
END:VCALENDAR
