BEGIN:VCALENDAR
VERSION:2.0
PRODID:-//empowercdc.org//NONSGML kigkonsult.se iCalcreator 2.30.10//
CALSCALE:GREGORIAN
METHOD:PUBLISH
UID:f336f473-aace-4345-8e41-c9b201955da2
X-WR-CALDESC:Happy Birthday to ALL July Birthdays.  Come out an enjoy some 
 cupcakes\, ice cream and great music. Everyone is encouraged to participat
 e.
X-WR-RELCALID:96b7bd216dcf224ba7546c893b3aca6a
X-WR-TIMEZONE:America/Chicago
BEGIN:VTIMEZONE
TZID:America/Chicago
BEGIN:STANDARD
TZNAME:CST
DTSTART:20201101T020000
TZOFFSETFROM:-0500
TZOFFSETTO:-0600
RDATE:20211107T020000
RDATE:20221106T020000
END:STANDARD
BEGIN:DAYLIGHT
TZNAME:CDT
DTSTART:20210314T020000
TZOFFSETFROM:-0600
TZOFFSETTO:-0500
RDATE:20220313T020000
END:DAYLIGHT
END:VTIMEZONE
BEGIN:VEVENT
UID:fd0fa67a-5565-4402-9997-b89252f51e20
DTSTAMP:20260424T104533Z
DESCRIPTION:Happy Birthday to ALL July Birthdays.  Come out an enjoy some c
 upcakes\, ice cream and great music. Everyone is encouraged to participate
 .
DTSTART;TZID=America/Chicago:20210712T150000
DTEND;TZID=America/Chicago:20210712T160000
LOCATION:
SUMMARY:SOCIAL:  Birthday Social
END:VEVENT
END:VCALENDAR
