BEGIN:VCALENDAR
VERSION:2.0
PRODID:-//empowercdc.org//NONSGML kigkonsult.se iCalcreator 2.30.10//
CALSCALE:GREGORIAN
METHOD:PUBLISH
UID:a40a2eb9-34f1-4cad-b11a-e8a19dca37bf
X-WR-CALDESC:Create a colorful project that can be placed in your window.
X-WR-RELCALID:487d612d271f1c8942fa9df6a37fbbd2
X-WR-TIMEZONE:America/Chicago
BEGIN:VTIMEZONE
TZID:America/Chicago
BEGIN:STANDARD
TZNAME:CST
DTSTART:20201101T020000
TZOFFSETFROM:-0500
TZOFFSETTO:-0600
RDATE:20211107T020000
RDATE:20221106T020000
END:STANDARD
BEGIN:DAYLIGHT
TZNAME:CDT
DTSTART:20210314T020000
TZOFFSETFROM:-0600
TZOFFSETTO:-0500
RDATE:20220313T020000
END:DAYLIGHT
END:VTIMEZONE
BEGIN:VEVENT
UID:8b57e9ce-2571-45c8-b554-ebdb27c9defc
DTSTAMP:20260424T104506Z
DESCRIPTION:Create a colorful project that can be placed in your window.
DTSTART;TZID=America/Chicago:20210712T160000
DTEND;TZID=America/Chicago:20210712T170000
LOCATION:
SUMMARY:Arts and Crafts:  Suncatchers
END:VEVENT
END:VCALENDAR
