BEGIN:VCALENDAR
VERSION:2.0
PRODID:-//empowercdc.org//NONSGML kigkonsult.se iCalcreator 2.30.10//
CALSCALE:GREGORIAN
METHOD:PUBLISH
UID:fa9c422d-ed01-445e-8903-775a662242b3
X-WR-CALDESC:Backyard Bootcamp.. Virtual Videos of Beginners Workouts
X-WR-RELCALID:e5c84e632a9b6a81bcbf61f2a35a3e41
X-WR-TIMEZONE:America/Chicago
BEGIN:VTIMEZONE
TZID:America/Chicago
BEGIN:STANDARD
TZNAME:CST
DTSTART:20201101T020000
TZOFFSETFROM:-0500
TZOFFSETTO:-0600
RDATE:20211107T020000
RDATE:20221106T020000
END:STANDARD
BEGIN:DAYLIGHT
TZNAME:CDT
DTSTART:20210314T020000
TZOFFSETFROM:-0600
TZOFFSETTO:-0500
RDATE:20220313T020000
END:DAYLIGHT
END:VTIMEZONE
BEGIN:VEVENT
UID:73d29a0e-2cdd-45c1-977a-efafa6cdb9cd
DTSTAMP:20260424T102607Z
DESCRIPTION:Backyard Bootcamp.. Virtual Videos of Beginners Workouts
DTSTART;TZID=America/Chicago:20210709T110000
DTEND;TZID=America/Chicago:20210709T120000
LOCATION:
SUMMARY:Exercise: Virtual BACKYARD BOOTCAMP
END:VEVENT
END:VCALENDAR
