BEGIN:VCALENDAR
VERSION:2.0
PRODID:-//empowercdc.org//NONSGML kigkonsult.se iCalcreator 2.30.10//
CALSCALE:GREGORIAN
METHOD:PUBLISH
UID:b55b374c-73f1-49ee-889a-c5c50d85e792
X-WR-CALDESC:Exercise: Walk-n-Talk Program.. Meet with Better Living for Te
 xans (8-week course)
X-WR-RELCALID:26d415afd0a163ac2cf9b92efdff891d
X-WR-TIMEZONE:America/Chicago
BEGIN:VTIMEZONE
TZID:America/Chicago
BEGIN:STANDARD
TZNAME:CST
DTSTART:20201101T020000
TZOFFSETFROM:-0500
TZOFFSETTO:-0600
RDATE:20211107T020000
RDATE:20221106T020000
END:STANDARD
BEGIN:DAYLIGHT
TZNAME:CDT
DTSTART:20210314T020000
TZOFFSETFROM:-0600
TZOFFSETTO:-0500
RDATE:20220313T020000
END:DAYLIGHT
END:VTIMEZONE
BEGIN:VEVENT
UID:672b53ba-1c32-4e18-90dd-0970ffca43f5
DTSTAMP:20260424T102553Z
DESCRIPTION:Exercise: Walk-n-Talk Program.. Meet with Better Living for Tex
 ans (8-week course)
DTSTART;TZID=America/Chicago:20210702T110000
DTEND;TZID=America/Chicago:20210702T120000
LOCATION:
SUMMARY:Exercise:  WALK-n-TALK PROGRAM
END:VEVENT
END:VCALENDAR
