BEGIN:VCALENDAR
VERSION:2.0
PRODID:-//empowercdc.org//NONSGML kigkonsult.se iCalcreator 2.30.10//
CALSCALE:GREGORIAN
METHOD:PUBLISH
UID:d5a6dff5-b42c-450e-a132-09a3369df7dc
X-WR-CALDESC:Come out and meet your neighbors
X-WR-RELCALID:d6819f4925c2ae661139494fd0a5d87a
X-WR-TIMEZONE:America/Chicago
BEGIN:VTIMEZONE
TZID:America/Chicago
BEGIN:STANDARD
TZNAME:CST
DTSTART:20201101T020000
TZOFFSETFROM:-0500
TZOFFSETTO:-0600
RDATE:20211107T020000
RDATE:20221106T020000
END:STANDARD
BEGIN:DAYLIGHT
TZNAME:CDT
DTSTART:20210314T020000
TZOFFSETFROM:-0600
TZOFFSETTO:-0500
RDATE:20220313T020000
END:DAYLIGHT
END:VTIMEZONE
BEGIN:VEVENT
UID:cfd61df9-73ad-41fc-9c51-47ca8bbfdc3a
DTSTAMP:20260424T104354Z
DESCRIPTION:Come out and meet your neighbors
DTSTART;TZID=America/Chicago:20210701T150000
DTEND;TZID=America/Chicago:20210701T160000
LOCATION:
SUMMARY:SOCIAL:  Meet and Greet
END:VEVENT
END:VCALENDAR
