BEGIN:VCALENDAR
VERSION:2.0
PRODID:-//empowercdc.org//NONSGML kigkonsult.se iCalcreator 2.30.10//
CALSCALE:GREGORIAN
METHOD:PUBLISH
UID:4662f627-40db-4525-aeeb-e4dd541ff7b0
X-WR-CALDESC:Want to do some shopping?  Need a Ride... Walmart is the locat
 ion.
X-WR-RELCALID:e37e5c56d51886de564b8cc1fe18ab68
X-WR-TIMEZONE:America/Chicago
BEGIN:VTIMEZONE
TZID:America/Chicago
BEGIN:STANDARD
TZNAME:CST
DTSTART:20201101T020000
TZOFFSETFROM:-0500
TZOFFSETTO:-0600
RDATE:20211107T020000
RDATE:20221106T020000
END:STANDARD
BEGIN:DAYLIGHT
TZNAME:CDT
DTSTART:20210314T020000
TZOFFSETFROM:-0600
TZOFFSETTO:-0500
RDATE:20220313T020000
END:DAYLIGHT
END:VTIMEZONE
BEGIN:VEVENT
UID:ba098ee0-5cdf-4492-9bde-1cf323596e66
DTSTAMP:20260424T120200Z
DESCRIPTION:Want to do some shopping?  Need a Ride... Walmart is the locati
 on.
DTSTART;TZID=America/Chicago:20210630T160000
DTEND;TZID=America/Chicago:20210630T170000
LOCATION:
SUMMARY:Transportation:  WALMART
END:VEVENT
END:VCALENDAR
