BEGIN:VCALENDAR
VERSION:2.0
PRODID:-//empowercdc.org//NONSGML kigkonsult.se iCalcreator 2.30.10//
CALSCALE:GREGORIAN
METHOD:PUBLISH
UID:c1c21278-5b85-4866-8c8d-04f07aa28b88
X-WR-CALDESC:Meet and Greet: Come out and have a great time meeting your ne
 ighbors.
X-WR-RELCALID:8359ebb9507948e4253fcc41fa2277f2
X-WR-TIMEZONE:America/Chicago
BEGIN:VTIMEZONE
TZID:America/Chicago
BEGIN:STANDARD
TZNAME:CST
DTSTART:20201101T020000
TZOFFSETFROM:-0500
TZOFFSETTO:-0600
RDATE:20211107T020000
RDATE:20221106T020000
END:STANDARD
BEGIN:DAYLIGHT
TZNAME:CDT
DTSTART:20210314T020000
TZOFFSETFROM:-0600
TZOFFSETTO:-0500
RDATE:20220313T020000
END:DAYLIGHT
END:VTIMEZONE
BEGIN:VEVENT
UID:d1f1f5b9-da21-4375-acdf-c81778d87d0d
DTSTAMP:20260424T120534Z
DESCRIPTION:Meet and Greet: Come out and have a great time meeting your nei
 ghbors.
DTSTART;TZID=America/Chicago:20210630T140000
DTEND;TZID=America/Chicago:20210630T150000
LOCATION:
SUMMARY:Social:  Meet and Greet
END:VEVENT
END:VCALENDAR
