BEGIN:VCALENDAR
VERSION:2.0
PRODID:-//empowercdc.org//NONSGML kigkonsult.se iCalcreator 2.30.10//
CALSCALE:GREGORIAN
METHOD:PUBLISH
UID:c7dbb4a6-4db7-4cf4-80de-079f73bcaa83
X-WR-CALDESC:Exercise: Walk-n-Talk Program.. Meet with Better Living for Te
 xans (8-week course)
X-WR-RELCALID:b22835da5c7c4dfd5884a12e767c487f
X-WR-TIMEZONE:America/Chicago
BEGIN:VTIMEZONE
TZID:America/Chicago
BEGIN:STANDARD
TZNAME:CST
DTSTART:20201101T020000
TZOFFSETFROM:-0500
TZOFFSETTO:-0600
RDATE:20211107T020000
RDATE:20221106T020000
END:STANDARD
BEGIN:DAYLIGHT
TZNAME:CDT
DTSTART:20210314T020000
TZOFFSETFROM:-0600
TZOFFSETTO:-0500
RDATE:20220313T020000
END:DAYLIGHT
END:VTIMEZONE
BEGIN:VEVENT
UID:6bef28aa-e9f4-43db-aad5-0f944962555a
DTSTAMP:20260424T120036Z
DESCRIPTION:Exercise: Walk-n-Talk Program.. Meet with Better Living for Tex
 ans (8-week course)
DTSTART;TZID=America/Chicago:20210630T100000
DTEND;TZID=America/Chicago:20210630T110000
LOCATION:
SUMMARY:Exercise:  WALK-n-TALK PROGRAM
END:VEVENT
END:VCALENDAR
