BEGIN:VCALENDAR
VERSION:2.0
PRODID:-//empowercdc.org//NONSGML kigkonsult.se iCalcreator 2.30.10//
CALSCALE:GREGORIAN
METHOD:PUBLISH
UID:96a23a7f-5313-4637-9f61-5da57d1e4de5
X-WR-CALDESC:Want to do some shopping?  Need a Ride... Walmart is the locat
 ion.
X-WR-RELCALID:ef9f69fb5e10377716127e9858d8dad0
X-WR-TIMEZONE:America/Chicago
BEGIN:VTIMEZONE
TZID:America/Chicago
BEGIN:STANDARD
TZNAME:CST
DTSTART:20201101T020000
TZOFFSETFROM:-0500
TZOFFSETTO:-0600
RDATE:20211107T020000
RDATE:20221106T020000
END:STANDARD
BEGIN:DAYLIGHT
TZNAME:CDT
DTSTART:20210314T020000
TZOFFSETFROM:-0600
TZOFFSETTO:-0500
RDATE:20220313T020000
END:DAYLIGHT
END:VTIMEZONE
BEGIN:VEVENT
UID:f8934908-c7e0-4a83-a3b7-b0b1dd46801d
DTSTAMP:20260424T120114Z
DESCRIPTION:Want to do some shopping?  Need a Ride... Walmart is the locati
 on.
DTSTART;TZID=America/Chicago:20210628T093000
DTEND;TZID=America/Chicago:20210628T103000
LOCATION:
SUMMARY:Transportation:  WALMART
END:VEVENT
END:VCALENDAR
