BEGIN:VCALENDAR
VERSION:2.0
PRODID:-//empowercdc.org//NONSGML kigkonsult.se iCalcreator 2.30.10//
CALSCALE:GREGORIAN
METHOD:PUBLISH
UID:def39edd-24da-4e66-99e4-74b7871915e8
X-WR-CALDESC:Health and Nutrition:  Quiz on Health and Nutrition Quiz.  Fas
 test completion and accuracy wins a prize.
X-WR-RELCALID:afaa7185388c4eed5aa9adef04d9ee27
X-WR-TIMEZONE:America/Chicago
BEGIN:VTIMEZONE
TZID:America/Chicago
BEGIN:STANDARD
TZNAME:CST
DTSTART:20201101T020000
TZOFFSETFROM:-0500
TZOFFSETTO:-0600
RDATE:20211107T020000
RDATE:20221106T020000
END:STANDARD
BEGIN:DAYLIGHT
TZNAME:CDT
DTSTART:20210314T020000
TZOFFSETFROM:-0600
TZOFFSETTO:-0500
RDATE:20220313T020000
END:DAYLIGHT
END:VTIMEZONE
BEGIN:VEVENT
UID:a82020df-868d-4784-8fe6-084f0859b0c0
DTSTAMP:20260424T121052Z
DESCRIPTION:Health and Nutrition:  Quiz on Health and Nutrition Quiz.  Fast
 est completion and accuracy wins a prize.
DTSTART;TZID=America/Chicago:20210628T150000
DTEND;TZID=America/Chicago:20210628T160000
LOCATION:
SUMMARY:Health and Nutrition: HEALTH & NUTRITION QUIZ
END:VEVENT
END:VCALENDAR
